BEGIN:VCALENDAR
PRODID:-//github.com/rianjs/ical.net//NONSGML ical.net 4.0//EN
VERSION:2.0
BEGIN:VEVENT
DESCRIPTION:Arbeidernes dag
DTEND:20260501T235959
DTSTAMP:20260420T174026Z
DTSTART;VALUE=DATE:20260501
SEQUENCE:0
SUMMARY:Arbeidernes dag
UID:0d4d16c9-f76e-438a-84b1-9ded19f61e20
END:VEVENT
END:VCALENDAR
