BEGIN:VCALENDAR
PRODID:-//github.com/rianjs/ical.net//NONSGML ical.net 4.0//EN
VERSION:2.0
BEGIN:VEVENT
DESCRIPTION:2. pinsedag
DTEND:20260525T235959
DTSTAMP:20260420T173656Z
DTSTART;VALUE=DATE:20260525
SEQUENCE:0
SUMMARY:2. pinsedag
UID:183b6852-c143-42ac-9fb3-52056ae30630
END:VEVENT
END:VCALENDAR
